BEGIN:VCALENDAR
VERSION:2.0
PRODID:-//MedLabPortal - ECPv6.15.18//NONSGML v1.0//EN
CALSCALE:GREGORIAN
METHOD:PUBLISH
X-WR-CALNAME:MedLabPortal
X-ORIGINAL-URL:https://medlabportal.de
X-WR-CALDESC:Veranstaltungen für MedLabPortal
REFRESH-INTERVAL;VALUE=DURATION:PT1H
X-Robots-Tag:noindex
X-PUBLISHED-TTL:PT1H
BEGIN:VTIMEZONE
TZID:Europe/Berlin
BEGIN:DAYLIGHT
TZOFFSETFROM:+0100
TZOFFSETTO:+0200
TZNAME:CEST
DTSTART:20250330T010000
END:DAYLIGHT
BEGIN:STANDARD
TZOFFSETFROM:+0200
TZOFFSETTO:+0100
TZNAME:CET
DTSTART:20251026T010000
END:STANDARD
BEGIN:DAYLIGHT
TZOFFSETFROM:+0100
TZOFFSETTO:+0200
TZNAME:CEST
DTSTART:20260329T010000
END:DAYLIGHT
BEGIN:STANDARD
TZOFFSETFROM:+0200
TZOFFSETTO:+0100
TZNAME:CET
DTSTART:20261025T010000
END:STANDARD
BEGIN:DAYLIGHT
TZOFFSETFROM:+0100
TZOFFSETTO:+0200
TZNAME:CEST
DTSTART:20270328T010000
END:DAYLIGHT
BEGIN:STANDARD
TZOFFSETFROM:+0200
TZOFFSETTO:+0100
TZNAME:CET
DTSTART:20271031T010000
END:STANDARD
END:VTIMEZONE
BEGIN:VEVENT
DTSTART;TZID=Europe/Berlin:20260314T080000
DTEND;TZID=Europe/Berlin:20260315T080000
DTSTAMP:20260419T143940
CREATED:20250423T041631Z
LAST-MODIFIED:20260419T094548Z
UID:265924-1773475200-1773561600@medlabportal.de
SUMMARY:Leukozytendifferenzierkurs
DESCRIPTION:Im Leukozytendifferenzierungskurs führen die Teilnehmenden unter fachlicher Anleitung praktische Übungen zur mikroskopischen Blutzelldifferenzierung durch. Der Kurs bietet eine hervorragende Gelegenheit\, Kenntnisse in der morphologischen Beurteilung von Leukozyten zu festigen und diagnostische Sicherheit im Laboralltag zu gewinnen.
URL:https://medlabportal.de/termin/leukozytendifferenzierkurs/
LOCATION:Hannover
END:VEVENT
END:VCALENDAR